BEGIN:VCALENDAR
VERSION:2.0
PRODID:-//hacksw/handcal//NONSGML v1.0//EN
BEGIN:VEVENT
SUMMARY:Rencontre amicale AMCH - Pulversheim
UID:a4e0502d-5307-46c6-8e5d-b6ebc924708d
DTSTART:20260525T080000Z
DTEND:20260525T160000Z
LOCATION:Localisation AMCH  Pulversheim
CATEGORIES:Sportif
STATUS:
DESCRIPTION:<p>Cette annee l’Aeromodele Club de la Hardt invite
 tous les pilotes interesses a une rencontre amicale interclubs, le
 lundi 25 mai 2026. Elle se deroulera de 10H a 18H sur notre terrain
 de Pulversheim.</p>
 
 <p>Il ne s’agit pas d’un Spectacle Aerien
 Pour Aeromodeles (SAPA). Nous ne faisons donc pas appel au
 public.<br>
 Nous ne demandons pas non plus de Qualification de Pilote
 De Demonstration pour voler, tous les pilotes de tous niveaux sont
 les bienvenus !</p>
 
 <p>Reservation et inscription pour les vols et
 le repas en suivant le lien:<br>
 <a
 href="https://docs.google.com/forms/d/e/1FAIpQLScDFUU1lpAn8TPwYWmGJ-_My3aA87pU0nuAxl7-nkERN9fXJQ/viewform?pli=1&urp=gmail_link"
 target="_blank" rel="noreferrer noopener">Inscription pour les
 pilotes</a></p>
URL;VALUE=URI:https://www.aero-ochsenfeld.fr/evenements/2026/05/25/rencontre-amicale-amch-pulversheim-2441435
END:VEVENT
END:VCALENDAR
